BEGIN:VCALENDAR
VERSION:2.0
PRODID:-//Marple District Rambling Club - ECPv6.6.4.2//NONSGML v1.0//EN
CALSCALE:GREGORIAN
METHOD:PUBLISH
X-WR-CALNAME:Marple District Rambling Club
X-ORIGINAL-URL:https://marpleramblers.org
X-WR-CALDESC:Events for Marple District Rambling Club
REFRESH-INTERVAL;VALUE=DURATION:PT1H
X-Robots-Tag:noindex
X-PUBLISHED-TTL:PT1H
BEGIN:VTIMEZONE
TZID:Europe/London
BEGIN:DAYLIGHT
TZOFFSETFROM:+0000
TZOFFSETTO:+0100
TZNAME:BST
DTSTART:20260329T010000
END:DAYLIGHT
BEGIN:STANDARD
TZOFFSETFROM:+0100
TZOFFSETTO:+0000
TZNAME:GMT
DTSTART:20261025T010000
END:STANDARD
END:VTIMEZONE
BEGIN:VEVENT
DTSTART;TZID=Europe/London:20260423T100000
DTEND;TZID=Europe/London:20260423T100000
DTSTAMP:20260423T014909
CREATED:20260331T144708Z
LAST-MODIFIED:20260331T144710Z
UID:21219-1776938400-1776938400@marpleramblers.org
SUMMARY:A Walk - Frodsham
DESCRIPTION:Check with walk leader for meeting time and location \n\n\n\n12 miles\, moderate
URL:https://marpleramblers.org/event/a-walk-frodsham/
END:VEVENT
BEGIN:VEVENT
DTSTART;TZID=Europe/London:20260423T100000
DTEND;TZID=Europe/London:20260423T100000
DTSTAMP:20260423T014909
CREATED:20260331T150526Z
LAST-MODIFIED:20260422T102634Z
UID:21221-1776938400-1776938400@marpleramblers.org
SUMMARY:B Walk - Sheldon
DESCRIPTION:The walk starts at 10.0 at the car park in Chapel Street\, Monyash. On entering the village\, turn left and you are in Chapel Street. The small car park is on the left\, not far down. There is no set charge but there is an honesty box.  \n\n\n\nWe go from Monyash to Sheldon\, then down via the Magpie Mine to Over Haddon\, and back to Monyash by way of the Lathkill and Cales Dale. Although some of these places featured in Tony’s walk two weeks ago\, there is very little overlap between the two walks.  \n  \n\n\n\n9 miles\, moderate
URL:https://marpleramblers.org/event/b-walk-sheldon/
END:VEVENT
BEGIN:VEVENT
DTSTART;TZID=Europe/London:20260423T101500
DTEND;TZID=Europe/London:20260423T101500
DTSTAMP:20260423T014909
CREATED:20260331T151131Z
LAST-MODIFIED:20260418T124903Z
UID:21223-1776939300-1776939300@marpleramblers.org
SUMMARY:C Walk - Mam Nick (Change from programme)
DESCRIPTION:10.15 start \n\n\n\nMEETING POINT \n\n\n\n Mam Nick car park ( S33 8WA) Parking free for National Trust members or £6 all day  for non members  It is perhaps worth noting  we are NOT walking up Mam Tor but are iinstead heading in the opposite direction towards Peak Forest \n\n\n\nTHE WALK  \n\n\n\nThe walk itself is a delightful and interesting walk  with great views over the Peak District throughout  plus a landscape including  numerous examples of grass covered hillocks and hollows that are the surface remains of lead veins and mines\, the hamlet of Old Dam .and Eldon Hole once thought to be the entrance to Hell. There are a mixture of fields \,footpaths\, tracks and quiet lanes (usually!!). Fingers crossed for the weather which at the time of writing was dry!DISTANCE \n\n\n\nApprox.7 miles \,moderate with some ups and downs with a few stiles DIRECTIONS \n\n\n\nTake the A6 towards Chapel -en -le Frith .Just past the Aldi roundabout  bear left and then left again towards Castleton and Mam Tor ..Continue along this road for a couple of miles and you will see a wooded area with the Mam Nick carpark on your left. It may also be possible to park on the large layby on the right .  \n  \n\n\n\n7 miles\, moderate
URL:https://marpleramblers.org/event/c-walk-foolow/
END:VEVENT
BEGIN:VEVENT
DTSTART;TZID=Europe/London:20260423T101500
DTEND;TZID=Europe/London:20260423T101500
DTSTAMP:20260423T014909
CREATED:20260331T151237Z
LAST-MODIFIED:20260421T130917Z
UID:21225-1776939300-1776939300@marpleramblers.org
SUMMARY:D Walk - Eyam Circular
DESCRIPTION:Eyam Circular – approximately 5 milesMeet at the upper car-park (free) on Hawkhill Road\, Eyam\, S32 5QP at 10:15 for a 10:30 start.Apologies for the distance from home.  Please car share if possible.Travel along the A6 through Chapel-en-le-Frith until you come to a roundabout where it is left for Sparrowpit and right for Dove Holes and Buxton.  Take the LEFT TURN and go through Sparrowpit ( sharp bend in the road). Keep on this road through Peak Forest for several miles until you see a sign for Eyam. TURN LEFT and go through the village of Eyam.  Take a right turn on to Hawkhill Road and park in the upper car park.  There are toilets in the lower car parkThe walk is on mixed terrain – paths\, fields\, woodland and riverside. It could be a bit muddy in places. There’s a couple of steep climbs but only 2 stiles.Hope to see you there.
URL:https://marpleramblers.org/event/d-walk-tba-6/
END:VEVENT
END:VCALENDAR