BEGIN:VCALENDAR
VERSION:2.0
PRODID:-//Marple District Rambling Club - ECPv6.6.4.2//NONSGML v1.0//EN
CALSCALE:GREGORIAN
METHOD:PUBLISH
X-ORIGINAL-URL:https://marpleramblers.org
X-WR-CALDESC:Events for Marple District Rambling Club
REFRESH-INTERVAL;VALUE=DURATION:PT1H
X-Robots-Tag:noindex
X-PUBLISHED-TTL:PT1H
BEGIN:VTIMEZONE
TZID:Europe/London
BEGIN:DAYLIGHT
TZOFFSETFROM:+0000
TZOFFSETTO:+0100
TZNAME:BST
DTSTART:20260329T010000
END:DAYLIGHT
BEGIN:STANDARD
TZOFFSETFROM:+0100
TZOFFSETTO:+0000
TZNAME:GMT
DTSTART:20261025T010000
END:STANDARD
END:VTIMEZONE
BEGIN:VEVENT
DTSTART;TZID=Europe/London:20260412T100000
DTEND;TZID=Europe/London:20260412T100000
DTSTAMP:20260420T052328
CREATED:20260331T142224Z
LAST-MODIFIED:20260409T074938Z
UID:21197-1775988000-1775988000@marpleramblers.org
SUMMARY:A Walk - Hope Valley (Change from programme)
DESCRIPTION:Start time/place: 10.15 Mytham Bridge\, Bamford. Map Ref: SK205 825. Postcode: S33 0EA \n\n\n\nDirections: A6 and turn left at Rushup/Edale/Castleton junction. Proceed through Castleton and Hope. Turn left\, 2.5 miles out of Hope\, at the fuel station to Bamford. Mytham Bridge is the first turning on the left\, approx 100 yards along the road. \n\n\n\nRoute: Bamford Mills\, Sickleholme Golf club\, Hathersage\, Mitchell Field\, Millstone Edge\, Bole Hill\, Leadmill\, Callow Wood\, Offerton House and Shatton. Circa 12 miles. \n  \n\n\n\n12 miles\, moderate
URL:https://marpleramblers.org/event/a-walk-gradbach/
END:VEVENT
BEGIN:VEVENT
DTSTART;TZID=Europe/London:20260412T100000
DTEND;TZID=Europe/London:20260412T100000
DTSTAMP:20260420T052328
CREATED:20260331T142352Z
LAST-MODIFIED:20260331T142354Z
UID:21199-1775988000-1775988000@marpleramblers.org
SUMMARY:B Walk - Hartington
DESCRIPTION:Check with walk leader for meeting time and location \n\n\n\n9 miles\, moderate
URL:https://marpleramblers.org/event/b-walk-hartington/
END:VEVENT
BEGIN:VEVENT
DTSTART;TZID=Europe/London:20260412T100000
DTEND;TZID=Europe/London:20260412T100000
DTSTAMP:20260420T052328
CREATED:20260331T142532Z
LAST-MODIFIED:20260410T133909Z
UID:21201-1775988000-1775988000@marpleramblers.org
SUMMARY:C Walk - Over Haddon  (Change from programme)
DESCRIPTION:The walk on Sunday will start in the village of Over Haddon. \n  \nIt is a circular walk that goes along both Lathkill and Bradford Dales. The route goes through Alport\, stays below Youlgreave and then follows the Limestone Way before returning along Lathkill Dale to Over Haddon. \n  \nIt is a moderate walk of c. 7.5 miles with one steep\, but short climb out of Bradford Dale and a second\, gentle climb back to the starting point. \n  \nDirections to Over Haddon: \n  \n\nTake the A6 to Buxton and then on towards Bakewell\nShortly after Ashford in the Water\, turn right up Crowhill Lane.\nAt the T junction turn left as far as the B5055\nTurn right and follow the signs to Over Haddon\, turning left off the B5055\nFollow the road as it bears right through the village\, and the car park is signposted to the left \nThe walk starts from the main car park in the village where there are toilets.\n\n  \nThe total distance from Marple is around 25 miles. \n  \nWe will meet at 10.00 for a 10.15 start. \n  \nPlease share cars where possible \n\n\n\n7.5 miles\, moderate
URL:https://marpleramblers.org/event/c-walk-hartington-biggin/
END:VEVENT
BEGIN:VEVENT
DTSTART;TZID=Europe/London:20260416T094500
DTEND;TZID=Europe/London:20260416T094500
DTSTAMP:20260420T052328
CREATED:20260331T143239Z
LAST-MODIFIED:20260415T083342Z
UID:21209-1776332700-1776332700@marpleramblers.org
SUMMARY:C Walk - Whaley Moor
DESCRIPTION:Parking: please park at the free car park on Canal Street\, Whaley Bridge\, near to the Goyt Valley Medical and Dental Practice\, postcode: SK23 7LX. Car sharing is recommended. \n\n\n\nThere are also car parking spaces on the road after you drive past Tesco\, further up on the left-hand side. Alternatively\, there is parking at Tesco’s car park on the FAR SIDE of the petrol station\, which is a 5-minute walk to the Canal Street Car park. \n\n\n\nTime: 09:45 for a 10:00 start. \n\n\n\nWalk: We will along the canal and up to the main road\, then cross over and follow the path under the railway. We then follow the paths through Hockerley and will take a long climb over Whaley Moor and\, weather permitting\, beautiful Spring views of Kettleshulme and Bowstones. After our coffee break we will continue across the moor before gradually dropping down into Scar Wood for lunch. This woodland walk will continue along Todd Brook and through farm tracks until crossing the road and eventually joining the Memorial Park and back to the start. \n\n\n\n The terrain includes stony tracks\, wide grassland paths\, country lanes\, narrow woodland trails and MUD! Please bring poles if you usually use them. There are several styles and gates. \n  \n\n\n\n7.5 miles\, moderate/strenuous
URL:https://marpleramblers.org/event/c-walk-whalley-moor/
END:VEVENT
BEGIN:VEVENT
DTSTART;TZID=Europe/London:20260416T094500
DTEND;TZID=Europe/London:20260416T094500
DTSTAMP:20260420T052328
CREATED:20260415T083950Z
LAST-MODIFIED:20260415T083953Z
UID:21340-1776332700-1776332700@marpleramblers.org
SUMMARY:A Walk - Wetton
DESCRIPTION:White Peak from Wetton to Ilam. \n\n\n\nStart at Wetton Car Park\, Carr Lane\, SK 108 551. W3W: ///heartened.reject.crisis \n\n\n\nToilets at Car Park. \n\n\n\nAs the car park often fills up\, I think we should start at 09:45…. apologies! \n\n\n\nThere is limited parking space in the village. \n\n\n\nRoute: Thor’s Cave\, Manifold Way\, Soles Hollow\, Slade House\, Calton Green\, Musden Low Ethel\, Ilam Hall\, Castern\, Highfield & Bincliff Mines.. \n\n\n\nDistance: 18.5km/ 11 1/2 mi\, 610m ascent
URL:https://marpleramblers.org/event/a-walk-wetton/
END:VEVENT
BEGIN:VEVENT
DTSTART;TZID=Europe/London:20260416T100000
DTEND;TZID=Europe/London:20260416T100000
DTSTAMP:20260420T052328
CREATED:20260331T142902Z
LAST-MODIFIED:20260415T084906Z
UID:21205-1776333600-1776333600@marpleramblers.org
SUMMARY:B Walk - Bugsworth Basin (Change from programme)
DESCRIPTION:10.00am walk off from the start at Bugsworth Canal Basin g.r. SK023 821\,  post code  SK23  7NE \n\n\n\nThis is a walk of big views \, initially S in the morning\, then M then finishing E   10 ½ miles \n\n\n\nRoute:-  We ascend to the north end of Cracken Edge (S)\, drop down to Alders Farm before ascending to the PBW near ( but not over) South Head S. Along the PBW\, Shireoaks\, Breckend\, M\, and finishing E along the Tramway.  \n\n\n\n10.5 miles\, moderate / Strenuous
URL:https://marpleramblers.org/event/b-walk-roaches-ramshaw/
END:VEVENT
BEGIN:VEVENT
DTSTART;TZID=Europe/London:20260416T100000
DTEND;TZID=Europe/London:20260416T100000
DTSTAMP:20260420T052328
CREATED:20260331T143107Z
LAST-MODIFIED:20260331T143110Z
UID:21207-1776333600-1776333600@marpleramblers.org
SUMMARY:BC - Higher Poynton
DESCRIPTION:Check with walk leader for meeting time and location \n\n\n\n7.5 miles\, moderate
URL:https://marpleramblers.org/event/bc-higher-poynton/
END:VEVENT
BEGIN:VEVENT
DTSTART;TZID=Europe/London:20260416T100000
DTEND;TZID=Europe/London:20260416T100000
DTSTAMP:20260420T052328
CREATED:20260331T143355Z
LAST-MODIFIED:20260415T082923Z
UID:21211-1776333600-1776333600@marpleramblers.org
SUMMARY:D Walk - Mellor
DESCRIPTION:Walk to start from Knowle Road. Mellor. SK6 5PL  \n\n\n\nOff Longhurst Lane. \n\n\n\nHi everyone. \n\n\n\nDue to the daily rising cost of fuel\, I have changed my planned walk to a local area. \n\n\n\nThis is a 5.5 moderate walk around Mellor with mainly decent footpaths\, some Lane walking\, a couple of tricky stiles and maybe mud . \n\n\n\nDirections \n\n\n\nFrom Brabyns Park carpark turn left \, then right at the t. lights into Town Street. \n\n\n\nContinue ahead into Longhurst Lane for 0.8 miles\, then left into Knowle Road signed Mellor Primary School. \n\n\n\nParking along the roadside\, not in the school carpark as it is term time.  \n\n\n\nHope to see you there\, weather looks ok.
URL:https://marpleramblers.org/event/d-walk-tba-3/
END:VEVENT
BEGIN:VEVENT
DTSTART;TZID=Europe/London:20260419T094500
DTEND;TZID=Europe/London:20260419T094500
DTSTAMP:20260420T052328
CREATED:20260331T143928Z
LAST-MODIFIED:20260415T082538Z
UID:21215-1776591900-1776591900@marpleramblers.org
SUMMARY:C Walk - Millers Dale (Change from programme)
DESCRIPTION:Distance is just over 7.5 miles and moderate. Car park is £6.60 for the day so consider car sharing. Arrive at 9:45 for 10:00 start. According to Google maps\, the distance from Marple to Millers Dale Car Park is about 22 miles\, 45 minutes (or less if no traffic problems!).  \n\n\n\nWalk starts at Millers Dale Station Car Park and along the Monsal Trail towards Chee Dale through three tunnels. At Chee Dale\, there’s a climb up a zig-zag track along the Pennine Bridleway towards Tunstead. Before reaching Tunstead\, we turn right towards Wormhill and then continue to Monk’s Dale. Instead of walking down Monk’s Dale\, which is horrible\, we take the road to climb up out of Monk’s Dale to Monksdale House and take the track to join the Limestone Way to Millers Dale. Then join the Monsal Trail to return to the start. \n\n\n\nDirections \n\n\n\nDo not put the SK17 8SN post code in as this will take you to Millers Dale and not the station!  \n\n\n\nSo from Marple go towards Buxton on the A6 and either go via Buxton or turn left at the traffic lights in Dove Holes to go via Peak Dale\, Haregatewall and Wormhill to Millers Dale Station Car Park. If you don’t fancy the cross country route\, then go into Buxton and continue on the A6 towards Bakewell. After a couple of miles\, take the left-hand turn (B6049) towards Millers Dale and at the bottom of the hill\, turn left (Sign posted Wormhill and Monsal Train Car Park). The road climbs up the hill\, go under two arched railway bridges and then turn left into the car park. \n\n\n\nIf you do fancy the cross country route\, then it’s left in Dove Holes onto Dale Road. Turn left at the junction with Smalldale Road and then turn immediately right\, signposted Wormhill/Millers Dale. Continue on this road through Wormhill and when the road descends after a sharp right-hand bend\, turn right before the arched railway bridge into the car park. \n  \n\n\n\n7.5 miles\, moderate
URL:https://marpleramblers.org/event/c-walk-over-haddon-larkhill/
END:VEVENT
BEGIN:VEVENT
DTSTART;TZID=Europe/London:20260419T100000
DTEND;TZID=Europe/London:20260419T100000
DTSTAMP:20260420T052328
CREATED:20260331T143754Z
LAST-MODIFIED:20260331T143758Z
UID:21213-1776592800-1776592800@marpleramblers.org
SUMMARY:B Walk - Coombs Dale
DESCRIPTION:Check with walk leader for meeting time and location \n\n\n\n11 miles\, moderate
URL:https://marpleramblers.org/event/b-walk-coombs-dale/
END:VEVENT
BEGIN:VEVENT
DTSTART;TZID=Europe/London:20260419T100000
DTEND;TZID=Europe/London:20260419T100000
DTSTAMP:20260420T052328
CREATED:20260331T144132Z
LAST-MODIFIED:20260415T082039Z
UID:21217-1776592800-1776592800@marpleramblers.org
SUMMARY:D Walk - Gawsworth
DESCRIPTION:The walk this Sunday is from Gawsworth SK11 9QY.  5 miles easy\, no hills. \n\n\n\nPark down Church Lane\,past the Church\, leave room for locals attending Sunday service. \n\n\n\nUsual 10.0am start. \n  \n\n\n\n5 miles\, easy
URL:https://marpleramblers.org/event/d-walk-tba-5/
END:VEVENT
BEGIN:VEVENT
DTSTART;TZID=Europe/London:20260423T100000
DTEND;TZID=Europe/London:20260423T100000
DTSTAMP:20260420T052328
CREATED:20260331T144708Z
LAST-MODIFIED:20260331T144710Z
UID:21219-1776938400-1776938400@marpleramblers.org
SUMMARY:A Walk - Frodsham
DESCRIPTION:Check with walk leader for meeting time and location \n\n\n\n12 miles\, moderate
URL:https://marpleramblers.org/event/a-walk-frodsham/
END:VEVENT
BEGIN:VEVENT
DTSTART;TZID=Europe/London:20260423T100000
DTEND;TZID=Europe/London:20260423T100000
DTSTAMP:20260420T052328
CREATED:20260331T150526Z
LAST-MODIFIED:20260331T150529Z
UID:21221-1776938400-1776938400@marpleramblers.org
SUMMARY:B Walk - Sheldon
DESCRIPTION:Check with walk leader for meeting time and location. \n\n\n\n9 miles\, moderate
URL:https://marpleramblers.org/event/b-walk-sheldon/
END:VEVENT
BEGIN:VEVENT
DTSTART;TZID=Europe/London:20260423T100000
DTEND;TZID=Europe/London:20260423T100000
DTSTAMP:20260420T052328
CREATED:20260331T151237Z
LAST-MODIFIED:20260331T151239Z
UID:21225-1776938400-1776938400@marpleramblers.org
SUMMARY:D Walk - TBA
DESCRIPTION:Check with walk leader for meeting time and location.
URL:https://marpleramblers.org/event/d-walk-tba-6/
END:VEVENT
BEGIN:VEVENT
DTSTART;TZID=Europe/London:20260423T101500
DTEND;TZID=Europe/London:20260423T101500
DTSTAMP:20260420T052328
CREATED:20260331T151131Z
LAST-MODIFIED:20260418T124903Z
UID:21223-1776939300-1776939300@marpleramblers.org
SUMMARY:C Walk - Mam Nick (Change from programme)
DESCRIPTION:10.15 start \n\n\n\nMEETING POINT \n\n\n\n Mam Nick car park ( S33 8WA) Parking free for National Trust members or £6 all day  for non members  It is perhaps worth noting  we are NOT walking up Mam Tor but are iinstead heading in the opposite direction towards Peak Forest \n\n\n\nTHE WALK  \n\n\n\nThe walk itself is a delightful and interesting walk  with great views over the Peak District throughout  plus a landscape including  numerous examples of grass covered hillocks and hollows that are the surface remains of lead veins and mines\, the hamlet of Old Dam .and Eldon Hole once thought to be the entrance to Hell. There are a mixture of fields \,footpaths\, tracks and quiet lanes (usually!!). Fingers crossed for the weather which at the time of writing was dry!DISTANCE \n\n\n\nApprox.7 miles \,moderate with some ups and downs with a few stiles DIRECTIONS \n\n\n\nTake the A6 towards Chapel -en -le Frith .Just past the Aldi roundabout  bear left and then left again towards Castleton and Mam Tor ..Continue along this road for a couple of miles and you will see a wooded area with the Mam Nick carpark on your left. It may also be possible to park on the large layby on the right .  \n  \n\n\n\n7 miles\, moderate
URL:https://marpleramblers.org/event/c-walk-foolow/
END:VEVENT
BEGIN:VEVENT
DTSTART;TZID=Europe/London:20260426T100000
DTEND;TZID=Europe/London:20260426T100000
DTSTAMP:20260420T052328
CREATED:20260401T092038Z
LAST-MODIFIED:20260401T092041Z
UID:21227-1777197600-1777197600@marpleramblers.org
SUMMARY:A Walk - TBA
DESCRIPTION:Check with walk leader for meeting time and location \n\n\n\n14 miles\, moderate
URL:https://marpleramblers.org/event/a-walk-tba-2/
END:VEVENT
BEGIN:VEVENT
DTSTART;TZID=Europe/London:20260426T100000
DTEND;TZID=Europe/London:20260426T100000
DTSTAMP:20260420T052328
CREATED:20260401T092202Z
LAST-MODIFIED:20260401T092205Z
UID:21229-1777197600-1777197600@marpleramblers.org
SUMMARY:B Walk - Longstones
DESCRIPTION:Check with walk leader for meeting time and location \n\n\n\n10 miles\, moderate
URL:https://marpleramblers.org/event/b-walk-longstones/
END:VEVENT
BEGIN:VEVENT
DTSTART;TZID=Europe/London:20260426T100000
DTEND;TZID=Europe/London:20260426T100000
DTSTAMP:20260420T052328
CREATED:20260401T092328Z
LAST-MODIFIED:20260401T092331Z
UID:21231-1777197600-1777197600@marpleramblers.org
SUMMARY:C Walk - Pots and Pans
DESCRIPTION:Check with walk leader for meeting time and location \n\n\n\n7 miles\, moderate
URL:https://marpleramblers.org/event/c-walk-pots-and-pans/
END:VEVENT
BEGIN:VEVENT
DTSTART;TZID=Europe/London:20260426T100000
DTEND;TZID=Europe/London:20260426T100000
DTSTAMP:20260420T052328
CREATED:20260401T092501Z
LAST-MODIFIED:20260401T092504Z
UID:21233-1777197600-1777197600@marpleramblers.org
SUMMARY:D Walk - TBA
DESCRIPTION:Check with walk leader for meeting time and location \n\n\n\n5 miles\, moderate
URL:https://marpleramblers.org/event/d-walk-tba-7/
END:VEVENT
BEGIN:VEVENT
DTSTART;TZID=Europe/London:20260428T193000
DTEND;TZID=Europe/London:20260428T213000
DTSTAMP:20260420T052328
CREATED:20260401T115718Z
LAST-MODIFIED:20260401T115720Z
UID:21313-1777404600-1777411800@marpleramblers.org
SUMMARY:Club AGM - Senior Citizens' Hall\, Marple
DESCRIPTION:The meeting starts at 8pm with a slide show of entries to the anual photo competition running from 7-30.
URL:https://marpleramblers.org/event/club-agm-senior-citizens-hall-marple/
END:VEVENT
BEGIN:VEVENT
DTSTART;TZID=Europe/London:20260430T100000
DTEND;TZID=Europe/London:20260430T100000
DTSTAMP:20260420T052328
CREATED:20260401T092639Z
LAST-MODIFIED:20260401T092641Z
UID:21235-1777543200-1777543200@marpleramblers.org
SUMMARY:A Walk - Stanage Edge
DESCRIPTION:Check with walk leader for meeting time and location \n\n\n\n13 miles\, moderate
URL:https://marpleramblers.org/event/a-walk-stanage-edge/
END:VEVENT
BEGIN:VEVENT
DTSTART;TZID=Europe/London:20260430T100000
DTEND;TZID=Europe/London:20260430T100000
DTSTAMP:20260420T052328
CREATED:20260401T092825Z
LAST-MODIFIED:20260401T092827Z
UID:21237-1777543200-1777543200@marpleramblers.org
SUMMARY:B Walk - Wolfscote Dale
DESCRIPTION:Check with walk leader for meeting time and location \n\n\n\n10 miles\, moderate
URL:https://marpleramblers.org/event/b-walk-wolfscote-dale/
END:VEVENT
BEGIN:VEVENT
DTSTART;TZID=Europe/London:20260430T100000
DTEND;TZID=Europe/London:20260430T100000
DTSTAMP:20260420T052328
CREATED:20260401T092952Z
LAST-MODIFIED:20260401T092954Z
UID:21239-1777543200-1777543200@marpleramblers.org
SUMMARY:C Walk - Werneth Low
DESCRIPTION:Check with walk leader for meeting time and location \n\n\n\n7 miles\, moderate
URL:https://marpleramblers.org/event/c-walk-werneth-low/
END:VEVENT
BEGIN:VEVENT
DTSTART;TZID=Europe/London:20260430T100000
DTEND;TZID=Europe/London:20260430T100000
DTSTAMP:20260420T052328
CREATED:20260401T093111Z
LAST-MODIFIED:20260401T093113Z
UID:21241-1777543200-1777543200@marpleramblers.org
SUMMARY:D Walk _ Hayfield
DESCRIPTION:Check with walk leader for meeting time and location \n\n\n\n5 miles\, moderate
URL:https://marpleramblers.org/event/d-walk-_-hayfield/
END:VEVENT
BEGIN:VEVENT
DTSTART;TZID=Europe/London:20260503T100000
DTEND;TZID=Europe/London:20260503T100000
DTSTAMP:20260420T052328
CREATED:20260401T093311Z
LAST-MODIFIED:20260401T093313Z
UID:21243-1777802400-1777802400@marpleramblers.org
SUMMARY:Walk - White Peak
DESCRIPTION:Check with walk leader for meeting time and location \n\n\n\n12 miles\, moderate
URL:https://marpleramblers.org/event/walk-white-peak/
END:VEVENT
BEGIN:VEVENT
DTSTART;TZID=Europe/London:20260503T100000
DTEND;TZID=Europe/London:20260503T100000
DTSTAMP:20260420T052328
CREATED:20260401T093437Z
LAST-MODIFIED:20260401T093439Z
UID:21245-1777802400-1777802400@marpleramblers.org
SUMMARY:B Walk - Thursbitch
DESCRIPTION:Check with walk leader for meeting time and location \n\n\n\n9 miles\, moderate
URL:https://marpleramblers.org/event/b-walk-thursbitch/
END:VEVENT
BEGIN:VEVENT
DTSTART;TZID=Europe/London:20260503T100000
DTEND;TZID=Europe/London:20260503T100000
DTSTAMP:20260420T052328
CREATED:20260401T093633Z
LAST-MODIFIED:20260401T093635Z
UID:21247-1777802400-1777802400@marpleramblers.org
SUMMARY:C Walk - Redsmere / Capesthorne
DESCRIPTION:Check with walk leader for meeting time and location \n\n\n\n7 miles\, easy
URL:https://marpleramblers.org/event/c-walk-redsmere-capesthorne/
END:VEVENT
BEGIN:VEVENT
DTSTART;TZID=Europe/London:20260503T100000
DTEND;TZID=Europe/London:20260503T100000
DTSTAMP:20260420T052328
CREATED:20260401T093751Z
LAST-MODIFIED:20260401T093753Z
UID:21249-1777802400-1777802400@marpleramblers.org
SUMMARY:D Walk - TBA
DESCRIPTION:Check with walk leader for meeting time and location \n\n\n\n5 miles\, moderate
URL:https://marpleramblers.org/event/d-walk-tba-8/
END:VEVENT
BEGIN:VEVENT
DTSTART;TZID=Europe/London:20260507T100000
DTEND;TZID=Europe/London:20260507T100000
DTSTAMP:20260420T052328
CREATED:20260401T093909Z
LAST-MODIFIED:20260401T093912Z
UID:21251-1778148000-1778148000@marpleramblers.org
SUMMARY:A Walk - Kinder
DESCRIPTION:Check with walk leader for meeting time and location \n\n\n\n12.5 miles\, moderate
URL:https://marpleramblers.org/event/a-walk-kinder/
END:VEVENT
BEGIN:VEVENT
DTSTART;TZID=Europe/London:20260507T100000
DTEND;TZID=Europe/London:20260507T100000
DTSTAMP:20260420T052328
CREATED:20260401T094047Z
LAST-MODIFIED:20260401T094049Z
UID:21253-1778148000-1778148000@marpleramblers.org
SUMMARY:B Walk - Revidge / Warslow
DESCRIPTION:Check with walk leader for meeting time and location \n\n\n\n11 miles\, moderate / strenuous
URL:https://marpleramblers.org/event/b-walk-revidge-warslow/
END:VEVENT
END:VCALENDAR